BEGIN:VCALENDAR
VERSION:2.0
PRODID:-//Musikverein Edelweiß - ECPv5.16.4//NONSGML v1.0//EN
CALSCALE:GREGORIAN
METHOD:PUBLISH
X-WR-CALNAME:Musikverein Edelweiß
X-ORIGINAL-URL:https://mv-sulzbach.de
X-WR-CALDESC:Veranstaltungen für Musikverein Edelweiß
BEGIN:VTIMEZONE
TZID:Europe/Berlin
BEGIN:DAYLIGHT
TZOFFSETFROM:+0100
TZOFFSETTO:+0200
TZNAME:CEST
DTSTART:20180325T010000
END:DAYLIGHT
BEGIN:STANDARD
TZOFFSETFROM:+0200
TZOFFSETTO:+0100
TZNAME:CET
DTSTART:20181028T010000
END:STANDARD
END:VTIMEZONE
BEGIN:VEVENT
DTSTART;VALUE=DATE:20180728
DTEND;VALUE=DATE:20180729
DTSTAMP:20260424T141818
CREATED:20171003T080732Z
LAST-MODIFIED:20180726T073933Z
UID:3497-1532736000-1532822399@mv-sulzbach.de
SUMMARY:Serenade auf dem Kirchplatz
DESCRIPTION:Treffen um 18:30 in Konzertkleidung
URL:https://mv-sulzbach.de/event/serenade-auf-dem-kirchplatz/
LOCATION:Kirchplatz
CATEGORIES:Aufritt
END:VEVENT
END:VCALENDAR