BEGIN:VCALENDAR
VERSION:2.0
PRODID:-//Musikverein Edelweiß - ECPv5.16.4//NONSGML v1.0//EN
CALSCALE:GREGORIAN
METHOD:PUBLISH
X-WR-CALNAME:Musikverein Edelweiß
X-ORIGINAL-URL:https://mv-sulzbach.de
X-WR-CALDESC:Veranstaltungen für Musikverein Edelweiß
BEGIN:VTIMEZONE
TZID:Europe/Berlin
BEGIN:DAYLIGHT
TZOFFSETFROM:+0100
TZOFFSETTO:+0200
TZNAME:CEST
DTSTART:20220327T010000
END:DAYLIGHT
BEGIN:STANDARD
TZOFFSETFROM:+0200
TZOFFSETTO:+0100
TZNAME:CET
DTSTART:20221030T010000
END:STANDARD
END:VTIMEZONE
BEGIN:VEVENT
DTSTART;TZID=Europe/Berlin:20220123T100000
DTEND;TZID=Europe/Berlin:20220123T120000
DTSTAMP:20260422T122715
CREATED:20210813T153824Z
LAST-MODIFIED:20210813T153824Z
UID:5054-1642932000-1642939200@mv-sulzbach.de
SUMMARY:Sebastianus-Feier des Schützenvereins
DESCRIPTION:
URL:https://mv-sulzbach.de/event/sebastianus-feier-des-schuetzenvereins/
CATEGORIES:Aufritt
END:VEVENT
END:VCALENDAR