BEGIN:VCALENDAR
VERSION:2.0
PRODID:-//Musikverein Edelweiß - ECPv5.16.4//NONSGML v1.0//EN
CALSCALE:GREGORIAN
METHOD:PUBLISH
X-WR-CALNAME:Musikverein Edelweiß
X-ORIGINAL-URL:https://mv-sulzbach.de
X-WR-CALDESC:Veranstaltungen für Musikverein Edelweiß
BEGIN:VTIMEZONE
TZID:Europe/Berlin
BEGIN:DAYLIGHT
TZOFFSETFROM:+0100
TZOFFSETTO:+0200
TZNAME:CEST
DTSTART:20220327T010000
END:DAYLIGHT
BEGIN:STANDARD
TZOFFSETFROM:+0200
TZOFFSETTO:+0100
TZNAME:CET
DTSTART:20221030T010000
END:STANDARD
END:VTIMEZONE
BEGIN:VEVENT
DTSTART;TZID=Europe/Berlin:20220819T194500
DTEND;TZID=Europe/Berlin:20220819T214500
DTSTAMP:20260421T210618
CREATED:20220621T164023Z
LAST-MODIFIED:20220730T094618Z
UID:5469-1660938300-1660945500@mv-sulzbach.de
SUMMARY:Probe Blasorchester -ENTFÄLLT-
DESCRIPTION:
URL:https://mv-sulzbach.de/event/probe-blasorchester-267/
LOCATION:Braunwarthsmühle\, Friedhofstraße 5\, Sulzbach\, 63834\, Deutschland
CATEGORIES:Sonstiges
END:VEVENT
END:VCALENDAR