BEGIN:VCALENDAR
VERSION:2.0
PRODID:-//Musikverein Edelweiß - ECPv5.16.4//NONSGML v1.0//EN
CALSCALE:GREGORIAN
METHOD:PUBLISH
X-WR-CALNAME:Musikverein Edelweiß
X-ORIGINAL-URL:https://mv-sulzbach.de
X-WR-CALDESC:Veranstaltungen für Musikverein Edelweiß
BEGIN:VTIMEZONE
TZID:Europe/Berlin
BEGIN:DAYLIGHT
TZOFFSETFROM:+0100
TZOFFSETTO:+0200
TZNAME:CEST
DTSTART:20220327T010000
END:DAYLIGHT
BEGIN:STANDARD
TZOFFSETFROM:+0200
TZOFFSETTO:+0100
TZNAME:CET
DTSTART:20221030T010000
END:STANDARD
END:VTIMEZONE
BEGIN:VEVENT
DTSTART;TZID=Europe/Berlin:20220401T194500
DTEND;TZID=Europe/Berlin:20220401T220000
DTSTAMP:20260423T001127
CREATED:20211112T080012Z
LAST-MODIFIED:20211112T080012Z
UID:5252-1648842300-1648850400@mv-sulzbach.de
SUMMARY:Probe Blasorchester
DESCRIPTION:
URL:https://mv-sulzbach.de/event/probe-blasorchester-249/
LOCATION:St. Margareta Kirche\, Jahnstraße 22\, Sulzbach\, 63834\, Deutschland
CATEGORIES:Probe
END:VEVENT
END:VCALENDAR