BEGIN:VCALENDAR
VERSION:2.0
PRODID:-//Musikverein Edelweiß - ECPv5.16.4//NONSGML v1.0//EN
CALSCALE:GREGORIAN
METHOD:PUBLISH
X-WR-CALNAME:Musikverein Edelweiß
X-ORIGINAL-URL:https://mv-sulzbach.de
X-WR-CALDESC:Veranstaltungen für Musikverein Edelweiß
BEGIN:VTIMEZONE
TZID:Europe/Berlin
BEGIN:DAYLIGHT
TZOFFSETFROM:+0100
TZOFFSETTO:+0200
TZNAME:CEST
DTSTART:20210328T010000
END:DAYLIGHT
BEGIN:STANDARD
TZOFFSETFROM:+0200
TZOFFSETTO:+0100
TZNAME:CET
DTSTART:20211031T010000
END:STANDARD
END:VTIMEZONE
BEGIN:VEVENT
DTSTART;TZID=Europe/Berlin:20211010T180000
DTEND;TZID=Europe/Berlin:20211010T193000
DTSTAMP:20260423T202300
CREATED:20210803T154531Z
LAST-MODIFIED:20211003T071551Z
UID:5049-1633888800-1633894200@mv-sulzbach.de
SUMMARY:das Konzert - daheim
DESCRIPTION:Zu erleben auf unserem YouTube-Kanal unter dem Livestream-Link https://www.youtube.com/watch?v=PrF_hAY2X2U
URL:https://mv-sulzbach.de/event/online-konzert/
LOCATION:Schulzentrum Elsenfeld\, Dammsfeldstraße\, Elsenfeld
CATEGORIES:Aufritt
END:VEVENT
END:VCALENDAR