BEGIN:VCALENDAR
VERSION:2.0
PRODID:-//Musikverein Edelweiß - ECPv5.16.4//NONSGML v1.0//EN
CALSCALE:GREGORIAN
METHOD:PUBLISH
X-WR-CALNAME:Musikverein Edelweiß
X-ORIGINAL-URL:https://mv-sulzbach.de
X-WR-CALDESC:Veranstaltungen für Musikverein Edelweiß
BEGIN:VTIMEZONE
TZID:Europe/Berlin
BEGIN:DAYLIGHT
TZOFFSETFROM:+0100
TZOFFSETTO:+0200
TZNAME:CEST
DTSTART:20220327T010000
END:DAYLIGHT
BEGIN:STANDARD
TZOFFSETFROM:+0200
TZOFFSETTO:+0100
TZNAME:CET
DTSTART:20221030T010000
END:STANDARD
END:VTIMEZONE
BEGIN:VEVENT
DTSTART;TZID=Europe/Berlin:20220812T183000
DTEND;TZID=Europe/Berlin:20220812T203000
DTSTAMP:20260421T225645
CREATED:20220720T190259Z
LAST-MODIFIED:20220720T190259Z
UID:5513-1660329000-1660336200@mv-sulzbach.de
SUMMARY:Music is Life - Konzert des Orchesters der Unterfränkischen Bläserwoche 2022
DESCRIPTION:
URL:https://mv-sulzbach.de/event/music-is-life-konzert-des-orchesters-der-unterfraenkischen-blaeserwoche-2022/
LOCATION:Kirchplatz
CATEGORIES:Sonstiges
END:VEVENT
END:VCALENDAR