BEGIN:VCALENDAR
VERSION:2.0
PRODID:-//Musikverein Edelweiß - ECPv5.16.4//NONSGML v1.0//EN
CALSCALE:GREGORIAN
METHOD:PUBLISH
X-WR-CALNAME:Musikverein Edelweiß
X-ORIGINAL-URL:https://mv-sulzbach.de
X-WR-CALDESC:Veranstaltungen für Musikverein Edelweiß
BEGIN:VTIMEZONE
TZID:Europe/Berlin
BEGIN:DAYLIGHT
TZOFFSETFROM:+0100
TZOFFSETTO:+0200
TZNAME:CEST
DTSTART:20180325T010000
END:DAYLIGHT
BEGIN:STANDARD
TZOFFSETFROM:+0200
TZOFFSETTO:+0100
TZNAME:CET
DTSTART:20181028T010000
END:STANDARD
END:VTIMEZONE
BEGIN:VEVENT
DTSTART;VALUE=DATE:20180210
DTEND;VALUE=DATE:20180211
DTSTAMP:20260424T143811
CREATED:20171003T080048Z
LAST-MODIFIED:20171003T080048Z
UID:3483-1518220800-1518307199@mv-sulzbach.de
SUMMARY:Mexikanische Nacht
DESCRIPTION:
URL:https://mv-sulzbach.de/event/mexikanische-nacht-3/
LOCATION:Main-Spessart-Halle\, Schulstraße\, Sulzbach\, 63834\, Deutschland
CATEGORIES:Aufritt
END:VEVENT
END:VCALENDAR