BEGIN:VCALENDAR
VERSION:2.0
PRODID:-//Musikverein Edelweiß - ECPv5.16.4//NONSGML v1.0//EN
CALSCALE:GREGORIAN
METHOD:PUBLISH
X-WR-CALNAME:Musikverein Edelweiß
X-ORIGINAL-URL:https://mv-sulzbach.de
X-WR-CALDESC:Veranstaltungen für Musikverein Edelweiß
BEGIN:VTIMEZONE
TZID:Europe/Berlin
BEGIN:DAYLIGHT
TZOFFSETFROM:+0100
TZOFFSETTO:+0200
TZNAME:CEST
DTSTART:20230326T010000
END:DAYLIGHT
BEGIN:STANDARD
TZOFFSETFROM:+0200
TZOFFSETTO:+0100
TZNAME:CET
DTSTART:20231029T010000
END:STANDARD
END:VTIMEZONE
BEGIN:VEVENT
DTSTART;TZID=Europe/Berlin:20230326T180000
DTEND;TZID=Europe/Berlin:20230326T200000
DTSTAMP:20260421T173253
CREATED:20220330T101246Z
LAST-MODIFIED:20230121T212422Z
UID:5356-1679853600-1679860800@mv-sulzbach.de
SUMMARY:Jubiläumskonzert 100 Jahre MV Sulzbach
DESCRIPTION:Tickets: https://tickets.mv-sulzbach.de/MV/das-konzert-23/
URL:https://mv-sulzbach.de/event/jubilaeumskonzert-100-jahre-mv-sulzbach/
LOCATION:Main-Spessart-Halle\, Schulstraße\, Sulzbach\, 63834\, Deutschland
CATEGORIES:Aufritt
END:VEVENT
END:VCALENDAR