BEGIN:VCALENDAR
VERSION:2.0
PRODID:-//Musikverein Edelweiß - ECPv5.16.4//NONSGML v1.0//EN
CALSCALE:GREGORIAN
METHOD:PUBLISH
X-WR-CALNAME:Musikverein Edelweiß
X-ORIGINAL-URL:https://mv-sulzbach.de
X-WR-CALDESC:Veranstaltungen für Musikverein Edelweiß
BEGIN:VTIMEZONE
TZID:Europe/Berlin
BEGIN:DAYLIGHT
TZOFFSETFROM:+0100
TZOFFSETTO:+0200
TZNAME:CEST
DTSTART:20170326T010000
END:DAYLIGHT
BEGIN:STANDARD
TZOFFSETFROM:+0200
TZOFFSETTO:+0100
TZNAME:CET
DTSTART:20171029T010000
END:STANDARD
END:VTIMEZONE
BEGIN:VEVENT
DTSTART;TZID=Europe/Berlin:20170401T150000
DTEND;TZID=Europe/Berlin:20170401T150000
DTSTAMP:20260425T180500
CREATED:20170111T073711Z
LAST-MODIFIED:20170111T073711Z
UID:2743-1491058800-1491058800@mv-sulzbach.de
SUMMARY:Generalprobe Blasorchester zum Konzert
DESCRIPTION:
URL:https://mv-sulzbach.de/event/generalprobe-blasorchester-zum-konzert/
LOCATION:Main-Spessart-Halle\, Schulstraße\, Sulzbach\, 63834\, Deutschland
CATEGORIES:Probe,Sonderprobe
END:VEVENT
END:VCALENDAR