BEGIN:VCALENDAR
VERSION:2.0
PRODID:-//Musikverein Edelweiß - ECPv5.16.4//NONSGML v1.0//EN
CALSCALE:GREGORIAN
METHOD:PUBLISH
X-WR-CALNAME:Musikverein Edelweiß
X-ORIGINAL-URL:https://mv-sulzbach.de
X-WR-CALDESC:Veranstaltungen für Musikverein Edelweiß
BEGIN:VTIMEZONE
TZID:Europe/Berlin
BEGIN:DAYLIGHT
TZOFFSETFROM:+0100
TZOFFSETTO:+0200
TZNAME:CEST
DTSTART:20180325T010000
END:DAYLIGHT
BEGIN:STANDARD
TZOFFSETFROM:+0200
TZOFFSETTO:+0100
TZNAME:CET
DTSTART:20181028T010000
END:STANDARD
END:VTIMEZONE
BEGIN:VEVENT
DTSTART;TZID=Europe/Berlin:20180721T163000
DTEND;TZID=Europe/Berlin:20180721T163000
DTSTAMP:20260424T113947
CREATED:20180726T074015Z
LAST-MODIFIED:20180726T074015Z
UID:4040-1532190600-1532190600@mv-sulzbach.de
SUMMARY:Aufbau zur Serenade
DESCRIPTION:
URL:https://mv-sulzbach.de/event/aufbau-zur-serenade/
LOCATION:Kirchplatz
CATEGORIES:Sonstiges
END:VEVENT
END:VCALENDAR